BEGIN:VCALENDAR

VERSION:2.0

PRODID:-//hacksw/handcal//NONSGML v1.0//EN

BEGIN:VEVENT

UID:386e87eb3febdc89fc602f8fd7b35380

DTSTAMP:20260421T223119Z

DTSTART:20260422T173000

DTEND:20260422T183000

SUMMARY:L33585456 - 9 Eastment Street, BARDON QLD 4065

LOCATION:9 Eastment Street, BARDON QLD 4065

END:VEVENT

END:VCALENDAR