BEGIN:VCALENDAR

VERSION:2.0

PRODID:-//hacksw/handcal//NONSGML v1.0//EN

BEGIN:VEVENT

UID:8590022783ce80a6c1c46662f6f5e798

DTSTAMP:20260421T222852Z

DTSTART:20260426T110000

DTEND:20260426T113000

SUMMARY:L33585456 - 9 Eastment Street, BARDON QLD 4065

LOCATION:9 Eastment Street, BARDON QLD 4065

END:VEVENT

END:VCALENDAR