BEGIN:VCALENDAR

VERSION:2.0

PRODID:-//hacksw/handcal//NONSGML v1.0//EN

BEGIN:VEVENT

UID:15fe01d914348de6dd109a847f39ab4f

DTSTAMP:20260421T222735Z

DTSTART:20260426T120000

DTEND:20260426T123000

SUMMARY:L39332430 - 5/76 Durham Street, ST LUCIA QLD 4067

LOCATION:5/76 Durham Street, ST LUCIA QLD 4067

END:VEVENT

END:VCALENDAR