BEGIN:VCALENDAR

VERSION:2.0

PRODID:-//hacksw/handcal//NONSGML v1.0//EN

BEGIN:VEVENT

UID:3f3312fe2839bf0af9d9652220415510

DTSTAMP:20260421T222825Z

DTSTART:20260430T173000

DTEND:20260430T183000

SUMMARY:L33585456 - 9 Eastment Street, BARDON QLD 4065

LOCATION:9 Eastment Street, BARDON QLD 4065

END:VEVENT

END:VCALENDAR